BEGIN:VCALENDAR
VERSION:2.0
PRODID:-//APABA-PA.ORG - ECPv6.15.20//NONSGML v1.0//EN
CALSCALE:GREGORIAN
METHOD:PUBLISH
X-WR-CALNAME:APABA-PA.ORG
X-ORIGINAL-URL:https://apaba-pa.org
X-WR-CALDESC:Events for APABA-PA.ORG
REFRESH-INTERVAL;VALUE=DURATION:PT1H
X-Robots-Tag:noindex
X-PUBLISHED-TTL:PT1H
BEGIN:VTIMEZONE
TZID:America/New_York
BEGIN:DAYLIGHT
TZOFFSETFROM:-0500
TZOFFSETTO:-0400
TZNAME:EDT
DTSTART:20210314T070000
END:DAYLIGHT
BEGIN:STANDARD
TZOFFSETFROM:-0400
TZOFFSETTO:-0500
TZNAME:EST
DTSTART:20211107T060000
END:STANDARD
BEGIN:DAYLIGHT
TZOFFSETFROM:-0500
TZOFFSETTO:-0400
TZNAME:EDT
DTSTART:20220313T070000
END:DAYLIGHT
BEGIN:STANDARD
TZOFFSETFROM:-0400
TZOFFSETTO:-0500
TZNAME:EST
DTSTART:20221106T060000
END:STANDARD
BEGIN:DAYLIGHT
TZOFFSETFROM:-0500
TZOFFSETTO:-0400
TZNAME:EDT
DTSTART:20230312T070000
END:DAYLIGHT
BEGIN:STANDARD
TZOFFSETFROM:-0400
TZOFFSETTO:-0500
TZNAME:EST
DTSTART:20231105T060000
END:STANDARD
END:VTIMEZONE
BEGIN:VEVENT
DTSTART;TZID=America/New_York:20220303T170000
DTEND;TZID=America/New_York:20220303T180000
DTSTAMP:20260423T180954
CREATED:20220218T163817Z
LAST-MODIFIED:20220218T164750Z
UID:6091-1646326800-1646330400@apaba-pa.org
SUMMARY:Virtual 2022 APABA-PA Lunar New Year Celebration - March 3\, 2022
DESCRIPTION:Please come celebrate the Virtual 2022 APABA-PA Lunar New Year Banquet\, the “Year of the Tiger”!\nDate: Thursday\, March 3\, 2022\nProgram: 5:00 pm – 5:30 pm EDT\nNetworking: 5:30 pm – 6:00 pm EDT\nPlease join APABA-PA in celebrating the Lunar New Year. This all-virtual celebration will feature a live performance by a Pipa musician and networking. Join us for a relaxing night of laughter and fun!\n\nRegistration: Registration is free. After you register for a ticket\, you will receive an email with the Zoom link closer to the event date. If you would like to be mailed a small gift\, please register by Thursday February 24\, 2022 and provide your shipping address to ensure timely delivery\, will be capped at 50. Otherwise\, please register by Wednesday March 2\, 2022. REGISTER HERE. \nThis year\, instead of charging for ticket prices\, we are accepting donations to APABA-PA. \nMusician: Yang Jin.  Pipa performer Yang Jin is a leading Pipa soloists of her generation. She graduated from world-renowned Central Conservatory of Music in Beijing with distinguished honor for her master’s degree. Yang Jin has performed as a soloist with many well-known orchestras\, including Hong Kong Chinese Orchestra\, Macao Chinese Orchestra\, Shanghai Symphony Orchestra\, Japan’s royal city orchestra\, DongFang Chinese orchestra\, Chinese Orchestra of Central Conservatory of Music and The Chamber Orchestra of Pittsburgh. Her performances vivifies contrarieties of sentiments and inspires magnificent imaginations. Yang Jin lives in Pittsburgh with her family.
URL:https://apaba-pa.org/event/2022-apabapa-lny-banquet/
CATEGORIES:Lunar Banquet
ATTACH;FMTTYPE=image/png:https://apaba-pa.org/wp-content/uploads/2022/02/2022lunar.png
END:VEVENT
END:VCALENDAR