BEGIN:VCALENDAR
VERSION:2.0
PRODID:-//APABA-PA.ORG - ECPv6.15.20//NONSGML v1.0//EN
CALSCALE:GREGORIAN
METHOD:PUBLISH
X-ORIGINAL-URL:https://apaba-pa.org
X-WR-CALDESC:Events for APABA-PA.ORG
REFRESH-INTERVAL;VALUE=DURATION:PT1H
X-Robots-Tag:noindex
X-PUBLISHED-TTL:PT1H
BEGIN:VTIMEZONE
TZID:America/New_York
BEGIN:DAYLIGHT
TZOFFSETFROM:-0500
TZOFFSETTO:-0400
TZNAME:EDT
DTSTART:20170312T070000
END:DAYLIGHT
BEGIN:STANDARD
TZOFFSETFROM:-0400
TZOFFSETTO:-0500
TZNAME:EST
DTSTART:20171105T060000
END:STANDARD
BEGIN:DAYLIGHT
TZOFFSETFROM:-0500
TZOFFSETTO:-0400
TZNAME:EDT
DTSTART:20180311T070000
END:DAYLIGHT
BEGIN:STANDARD
TZOFFSETFROM:-0400
TZOFFSETTO:-0500
TZNAME:EST
DTSTART:20181104T060000
END:STANDARD
BEGIN:DAYLIGHT
TZOFFSETFROM:-0500
TZOFFSETTO:-0400
TZNAME:EDT
DTSTART:20190310T070000
END:DAYLIGHT
BEGIN:STANDARD
TZOFFSETFROM:-0400
TZOFFSETTO:-0500
TZNAME:EST
DTSTART:20191103T060000
END:STANDARD
END:VTIMEZONE
BEGIN:VEVENT
DTSTART;TZID=America/New_York:20181005T180000
DTEND;TZID=America/New_York:20181005T220000
DTSTAMP:20260423T230554
CREATED:20180817T175706Z
LAST-MODIFIED:20180909T033125Z
UID:3409-1538762400-1538776800@apaba-pa.org
SUMMARY:APABA-PA 2018 Annual Banquet
DESCRIPTION:You are cordially invited to attend the Asian Pacific American Bar Association of Pennsylvania’s 2018 Annual Banquet in support of the Judge William M. Marutani Fellowship. \nKeynote Speaker: The Honorable Gurbir Grewal\nThe first Asian Pacific American to hold his position in New Jersey\, and the first Sikh American in United States history to hold this position.* Also presenting the Attorney of the Year Kay Kyungsun Yu\, and our Marutani Fellows! \nCocktail hour: 6:00 PM\nDinner: 7:00 PM \nSheraton University City Hotel\n3549 Chestnut Street\, Philadelphia PA 19104 \nBanquet catered by Sang Kee. \nRSVP by September 21\, 2018\, using this reply form or email Djung Tran at dht@djungtran.com \nClick here or the website below for tickets! \n*For ethical reasons\, we cannot publish Mr. Grewal’s title and position for this event. \n\nThank you to Stradley Ronon for sponsoring the 2018 Annual Banquet open bar Cocktail Hour!  \nWe also have our first Gold sponsor – Pepper Hamilton! Thank you to Pepper\, and also to White and Williams\, DLA Piper\, Cozen O’Connor\, and Fox Rothschild for Silver sponsorships!
URL:https://apaba-pa.org/event/apaba-pa-annual-banquet/
LOCATION:Sheraton University City Hotel\, 3549 Chestnut Street\, Philadelphia\, PA\, 19104\, United States
CATEGORIES:Annual Banquets,Save the Date
ORGANIZER;CN="Djung Tran":MAILTO:djung253@gmail.com
END:VEVENT
END:VCALENDAR